BEGIN:VCALENDAR
VERSION:2.0
PRODID:-//Tukios.com/
BEGIN:VEVENT
UID:418cda13-4c2f-4296-a512-c7b3f586ff85@www.devargastaos.com
DTSTAMP:20260422T020557Z
DTSTART:20260425T170000Z
DTEND:20260425T180000Z
SUMMARY:Funeral Service
DESCRIPTION:
URL:https://www.devargastaos.com/obituaries/dianne-davis
LOCATION:Calvary Taos Church 723 Camino Del Medio  Taos NM 87571
GEO:36.387577;-105.6012146
END:VEVENT
END:VCALENDAR