BEGIN:VCALENDAR
VERSION:2.0
PRODID:-//Tukios.com/
BEGIN:VEVENT
UID:24bcb9b6-80e6-4b1e-b270-459a4ff46c03@www.devargastaos.com
DTSTAMP:20260424T221006Z
DTSTART:20260429T003000Z
DTEND:20260429T013000Z
SUMMARY:Rosary
DESCRIPTION:
URL:https://www.devargastaos.com/obituaries/lawrence-a-lovato
LOCATION:    NM 
GEO:34.5199402;-105.8700901
END:VEVENT
END:VCALENDAR