BEGIN:VCALENDAR
VERSION:2.0
PRODID:-//Tukios.com/
BEGIN:VEVENT
UID:852c54ad-d70c-4f45-84ad-3c1f808813ad@www.devargastaos.com
DTSTAMP:20260424T221503Z
DTSTART:20260429T160000Z
DTEND:20260429T170000Z
SUMMARY:Mass of Christian Burial
DESCRIPTION:
URL:https://www.devargastaos.com/obituaries/lawrence-a-lovato
LOCATION:    NM 
GEO:34.5199402;-105.8700901
END:VEVENT
END:VCALENDAR